{"text_format":"1","workbook":"xlsx","n_sheets":4,"sheets":["Control","data","DROP Cone","Sheet1"],"not_rendered":{"charts":2,"images":4,"macros":1,"external_links":2,"defined_names":8,"comments":0,"pivot_tables":0},"unopened":[],"bounds":{"document_bytes":16777216,"sheet_cells":100000,"rows_first":2000,"rows_last":500,"rows_between":2000,"halvings":0,"cell_chars":16384,"cell_head_chars":4096},"cells_cut":0,"cells_raw":0,"read":"whole","date_system":"1900"}

{"sheet":"Control","index":0,"n_rows":11,"n_cols":5,"rows_kept":11,"cut":false,"hidden":true,"merged":[]}
[]
[]
[]
[null,null,null,"m","ft"]
[null,null,1,{"$f":"IF(C5=1,#REF!,#REF!*0.3048)","v":{"$error":"#REF!"}},{"$f":"IF(C5=2,#REF!,#REF!*3.280839895)","v":{"$error":"#REF!"}}]
[null,null,null,"Kgs","Lbs"]
[null,null,1,{"$f":"IF(C7=1,#REF!,#REF!*0.45359237)","v":{"$error":"#REF!"}},{"$f":"IF(C7=2,#REF!,#REF!*2.204622622)","v":{"$error":"#REF!"}}]
[]
[]
[null,null,"m","kg"]
[null,null,"ft","lb"]

{"sheet":"data","index":1,"n_rows":105,"n_cols":18,"rows_kept":105,"cut":false,"hidden":true,"merged":[]}
[null,null,"limited data"]
[null,null,4.4006743306671225,6.4569443276177756,10.297240136550943]
[null,null,-1.0015000000000001,-0.99960000000000004,-0.99690000000000001]
[]
[null,null,"full data"]
[null,null,4.5633044952626634,6.6126319566929164,10.550898250965846]
[null,null,-0.84889999999999999,-0.84719999999999995,-0.84760000000000002]
[]
[null,null,{"$f":"IF(Control!D7<1,data!C2,data!C6)","v":{"$error":"#REF!"}},{"$f":"IF(Control!D7<1,data!D2,data!D6)","v":{"$error":"#REF!"}},{"$f":"IF(Control!D7<1,data!E2,data!E6)","v":{"$error":"#REF!"}}]
[null,null,{"$f":"IF(Control!D7<1,data!C3,data!C7)","v":{"$error":"#REF!"}},{"$f":"IF(Control!D7<1,data!D3,data!D7)","v":{"$error":"#REF!"}},{"$f":"IF(Control!D7<1,data!E3,data!E7)","v":{"$error":"#REF!"}}]
[]
[]
[]
[null,"Mass","Slight","Minor","Major","Fatality",null,null,"Notes"]
[0.1,{"$f":"IF(Control!D$7<1,A15,A15*10)","v":{"$error":"#REF!"}},{"$f":"C$9*$B15^(C$10)","v":{"$error":"#REF!"}},{"$f":"D$9*$B15^(D$10)","v":{"$error":"#REF!"}},{"$error":"#REF!"},{"$f":"E15","v":{"$error":"#REF!"}},null,1,"Dropped object classification is defined by mass of object and height from which it falls"]
[{"$f":"A15+0.01","v":0.11},{"$f":"IF(Control!D$7<1,A16,A16*10)","v":{"$error":"#REF!"}},{"$error":"#REF!"},{"$error":"#REF!"},{"$error":"#REF!"},{"$error":"#REF!"},null,2,"The threshold values between classifications are defined by best-fit curves to the \"probit\" data"]
[{"$f":"A16+0.01","v":0.12},{"$f":"IF(Control!D$7<1,A17,A17*10)","v":{"$error":"#REF!"}},{"$error":"#REF!"},{"$error":"#REF!"},{"$error":"#REF!"},{"$error":"#REF!"},null,3,"The best fit curves are presented as \"limited data\" for mass in the range 0.1 to 1.0 kg"]
[0.13,{"$f":"IF(Control!D$7<1,A18,A18*10)","v":{"$error":"#REF!"}},{"$error":"#REF!"},{"$error":"#REF!"},{"$error":"#REF!"},{"$error":"#REF!"},null,4,"The best fit curves are presented as \"full data\" for mass in the range 1.0 to 10.0 kg"]
[0.14000000000000001,{"$f":"IF(Control!D$7<1,A19,A19*10)","v":{"$error":"#REF!"}},{"$error":"#REF!"},{"$error":"#REF!"},{"$error":"#REF!"},{"$error":"#REF!"},null,5,"The best fit curves are presented in the format               height= A*mass^B"]
[0.15000000000000002,{"$f":"IF(Control!D$7<1,A20,A20*10)","v":{"$error":"#REF!"}},{"$error":"#REF!"},{"$error":"#REF!"},{"$error":"#REF!"},{"$error":"#REF!"},null,6,"The probit data is as follows"]
[0.16000000000000003,{"$f":"IF(Control!D$7<1,A21,A21*10)","v":{"$error":"#REF!"}},{"$error":"#REF!"},{"$error":"#REF!"},{"$error":"#REF!"},{"$error":"#REF!"},null,null,"Pr =-29.15+2,1*ln(m*v^5.115)",null,null,null,"0.001<m<0.1",null,"Pr =",7,"High","High (99% fatality)"]
[0.17000000000000004,{"$f":"IF(Control!D$7<1,A22,A22*10)","v":{"$error":"#REF!"}},{"$error":"#REF!"},{"$error":"#REF!"},{"$error":"#REF!"},{"$error":"#REF!"},null,null,"Pr =-17.56+5,3*ln(0.5*m^2)",null,null,null,"0.1<m<4.5",null,"Pr =",4.2,"Medium","Medium (21% fatality)"]
[0.18000000000000005,{"$f":"IF(Control!D$7<1,A23,A23*10)","v":{"$error":"#REF!"}},{"$error":"#REF!"},{"$error":"#REF!"},{"$error":"#REF!"},{"$error":"#REF!"},null,null,"Pr=-13.19+10.54*ln(v)",null,null,null,"m > 4.5",null,"Pr =",2.5,"Safe","Safe (<0.1% fatality)"]
[0.19000000000000006,{"$f":"IF(Control!D$7<1,A24,A24*10)","v":{"$error":"#REF!"}},{"$error":"#REF!"},{"$error":"#REF!"},{"$error":"#REF!"},{"$error":"#REF!"},null,null,"where m is mass in kg and v is velocity in metres/second derived from assuming potential energy of mass*gravitational constant* height (mgh)"]
[0.20000000000000007,{"$f":"IF(Control!D$7<1,A25,A25*10)","v":{"$error":"#REF!"}},{"$error":"#REF!"},{"$error":"#REF!"},{"$error":"#REF!"},{"$error":"#REF!"},null,null,"is fully converted (without losses) to kinetic energy one-half*mass*velocity squared (0.5*m*v^2) so that v^2 = 2*g*h"]
[0.21000000000000008,{"$f":"IF(Control!D$7<1,A26,A26*10)","v":{"$error":"#REF!"}},{"$error":"#REF!"},{"$error":"#REF!"},{"$error":"#REF!"},{"$error":"#REF!"},null,7,"The probit function indicates the the relationship between exposure and the probability that the consequence occurs"]
[0.22000000000000008,{"$f":"IF(Control!D$7<1,A27,A27*10)","v":{"$error":"#REF!"}},{"$error":"#REF!"},{"$error":"#REF!"},{"$error":"#REF!"},{"$error":"#REF!"},null,8,"The probit data category of High has been used to define the fatal/DAWFC threshold"]
[0.23000000000000009,{"$f":"IF(Control!D$7<1,A28,A28*10)","v":{"$error":"#REF!"}},{"$error":"#REF!"},{"$error":"#REF!"},{"$error":"#REF!"},{"$error":"#REF!"},null,9,"The probit data category of Medium has been used to define the DAWFC/Recordable threshold"]
[0.2400000000000001,{"$f":"IF(Control!D$7<1,A29,A29*10)","v":{"$error":"#REF!"}},{"$error":"#REF!"},{"$error":"#REF!"},{"$error":"#REF!"},{"$error":"#REF!"},null,10,"The probit data category of Safe has been used to define the Recordable/First Aid threshold"]
[0.25000000000000011,{"$f":"IF(Control!D$7<1,A30,A30*10)","v":{"$error":"#REF!"}},{"$error":"#REF!"},{"$error":"#REF!"},{"$error":"#REF!"},{"$error":"#REF!"},null,11,"DAWFC = Days Away From Work Case"]
[0.26000000000000012,{"$f":"IF(Control!D$7<1,A31,A31*10)","v":{"$error":"#REF!"}},{"$error":"#REF!"},{"$f":"D$9*$B31^(D$10)","v":{"$error":"#REF!"}},{"$error":"#REF!"},{"$error":"#REF!"},null,12,"The best fit curves are fitted to data that does not exactly achieve the 7.00, 4.20 and 2.50 targets, "]
[0.27000000000000013,{"$f":"IF(Control!D$7<1,A32,A32*10)","v":{"$error":"#REF!"}},{"$error":"#REF!"},{"$error":"#REF!"},{"$error":"#REF!"},{"$error":"#REF!"},null,null,"but is reproduced for this chart because it matches the DROPS calculator card."]
[0.28000000000000014,{"$f":"IF(Control!D$7<1,A33,A33*10)","v":{"$error":"#REF!"}},{"$error":"#REF!"},{"$error":"#REF!"},{"$error":"#REF!"},{"$error":"#REF!"},null,13,"For future revisions, the 7.00, 4.20 and 2.50 target values may be accurately achieved by use of the \"goal seek\" function"]
[0.29000000000000015,{"$f":"IF(Control!D$7<1,A34,A34*10)","v":{"$error":"#REF!"}},{"$error":"#REF!"},{"$error":"#REF!"},{"$error":"#REF!"},{"$error":"#REF!"},null,14,"The best fit curves are fitted to data using mass values of 0.1 kg and greater and so are focussed on skull fracture"]
[0.30000000000000016,{"$f":"IF(Control!D$7<1,A35,A35*10)","v":{"$error":"#REF!"}},{"$error":"#REF!"},{"$error":"#REF!"},{"$error":"#REF!"},{"$error":"#REF!"}]
[0.31000000000000016,{"$f":"IF(Control!D$7<1,A36,A36*10)","v":{"$error":"#REF!"}},{"$error":"#REF!"},{"$error":"#REF!"},{"$error":"#REF!"},{"$error":"#REF!"}]
[0.32000000000000017,{"$f":"IF(Control!D$7<1,A37,A37*10)","v":{"$error":"#REF!"}},{"$error":"#REF!"},{"$error":"#REF!"},{"$error":"#REF!"},{"$error":"#REF!"}]
[0.33000000000000018,{"$f":"IF(Control!D$7<1,A38,A38*10)","v":{"$error":"#REF!"}},{"$error":"#REF!"},{"$error":"#REF!"},{"$error":"#REF!"},{"$error":"#REF!"}]
[0.34000000000000019,{"$f":"IF(Control!D$7<1,A39,A39*10)","v":{"$error":"#REF!"}},{"$error":"#REF!"},{"$error":"#REF!"},{"$error":"#REF!"},{"$error":"#REF!"}]
[0.3500000000000002,{"$f":"IF(Control!D$7<1,A40,A40*10)","v":{"$error":"#REF!"}},{"$error":"#REF!"},{"$error":"#REF!"},{"$error":"#REF!"},{"$error":"#REF!"}]
[0.36000000000000021,{"$f":"IF(Control!D$7<1,A41,A41*10)","v":{"$error":"#REF!"}},{"$error":"#REF!"},{"$error":"#REF!"},{"$error":"#REF!"},{"$error":"#REF!"}]
[0.37000000000000022,{"$f":"IF(Control!D$7<1,A42,A42*10)","v":{"$error":"#REF!"}},{"$error":"#REF!"},{"$error":"#REF!"},{"$error":"#REF!"},{"$error":"#REF!"}]
[0.38000000000000023,{"$f":"IF(Control!D$7<1,A43,A43*10)","v":{"$error":"#REF!"}},{"$error":"#REF!"},{"$error":"#REF!"},{"$error":"#REF!"},{"$error":"#REF!"}]
[0.39000000000000024,{"$f":"IF(Control!D$7<1,A44,A44*10)","v":{"$error":"#REF!"}},{"$error":"#REF!"},{"$error":"#REF!"},{"$error":"#REF!"},{"$error":"#REF!"}]
[0.40000000000000024,{"$f":"IF(Control!D$7<1,A45,A45*10)","v":{"$error":"#REF!"}},{"$error":"#REF!"},{"$error":"#REF!"},{"$error":"#REF!"},{"$error":"#REF!"}]
[0.41000000000000025,{"$f":"IF(Control!D$7<1,A46,A46*10)","v":{"$error":"#REF!"}},{"$error":"#REF!"},{"$error":"#REF!"},{"$error":"#REF!"},{"$error":"#REF!"}]
[0.42000000000000026,{"$f":"IF(Control!D$7<1,A47,A47*10)","v":{"$error":"#REF!"}},{"$error":"#REF!"},{"$error":"#REF!"},{"$error":"#REF!"},{"$error":"#REF!"}]
[0.43000000000000027,{"$f":"IF(Control!D$7<1,A48,A48*10)","v":{"$error":"#REF!"}},{"$f":"C$9*$B48^(C$10)","v":{"$error":"#REF!"}},{"$error":"#REF!"},{"$error":"#REF!"},{"$error":"#REF!"}]
[0.44000000000000028,{"$f":"IF(Control!D$7<1,A49,A49*10)","v":{"$error":"#REF!"}},{"$error":"#REF!"},{"$error":"#REF!"},{"$error":"#REF!"},{"$error":"#REF!"}]
[0.45000000000000029,{"$f":"IF(Control!D$7<1,A50,A50*10)","v":{"$error":"#REF!"}},{"$error":"#REF!"},{"$error":"#REF!"},{"$error":"#REF!"},{"$error":"#REF!"}]
[0.4600000000000003,{"$f":"IF(Control!D$7<1,A51,A51*10)","v":{"$error":"#REF!"}},{"$error":"#REF!"},{"$error":"#REF!"},{"$error":"#REF!"},{"$error":"#REF!"}]
[0.47000000000000031,{"$f":"IF(Control!D$7<1,A52,A52*10)","v":{"$error":"#REF!"}},{"$error":"#REF!"},{"$error":"#REF!"},{"$error":"#REF!"},{"$error":"#REF!"}]
[0.48000000000000032,{"$f":"IF(Control!D$7<1,A53,A53*10)","v":{"$error":"#REF!"}},{"$error":"#REF!"},{"$error":"#REF!"},{"$error":"#REF!"},{"$error":"#REF!"}]
[0.49000000000000032,{"$f":"IF(Control!D$7<1,A54,A54*10)","v":{"$error":"#REF!"}},{"$error":"#REF!"},{"$error":"#REF!"},{"$error":"#REF!"},{"$error":"#REF!"}]
[0.50000000000000033,{"$f":"IF(Control!D$7<1,A55,A55*10)","v":{"$error":"#REF!"}},{"$error":"#REF!"},{"$error":"#REF!"},{"$error":"#REF!"},{"$error":"#REF!"}]
[0.51000000000000034,{"$f":"IF(Control!D$7<1,A56,A56*10)","v":{"$error":"#REF!"}},{"$error":"#REF!"},{"$error":"#REF!"},{"$error":"#REF!"},{"$error":"#REF!"}]
[0.52000000000000035,{"$f":"IF(Control!D$7<1,A57,A57*10)","v":{"$error":"#REF!"}},{"$error":"#REF!"},{"$error":"#REF!"},{"$error":"#REF!"},{"$error":"#REF!"}]
[0.53000000000000036,{"$f":"IF(Control!D$7<1,A58,A58*10)","v":{"$error":"#REF!"}},{"$error":"#REF!"},{"$error":"#REF!"},{"$error":"#REF!"},{"$error":"#REF!"}]
[0.54000000000000037,{"$f":"IF(Control!D$7<1,A59,A59*10)","v":{"$error":"#REF!"}},{"$error":"#REF!"},{"$error":"#REF!"},{"$error":"#REF!"},{"$error":"#REF!"}]
[0.55000000000000038,{"$f":"IF(Control!D$7<1,A60,A60*10)","v":{"$error":"#REF!"}},{"$error":"#REF!"},{"$error":"#REF!"},{"$error":"#REF!"},{"$error":"#REF!"}]
[0.56000000000000039,{"$f":"IF(Control!D$7<1,A61,A61*10)","v":{"$error":"#REF!"}},{"$error":"#REF!"},{"$error":"#REF!"},{"$error":"#REF!"},{"$error":"#REF!"}]
[0.5700000000000004,{"$f":"IF(Control!D$7<1,A62,A62*10)","v":{"$error":"#REF!"}},{"$error":"#REF!"},{"$error":"#REF!"},{"$error":"#REF!"},{"$error":"#REF!"}]
[0.5800000000000004,{"$f":"IF(Control!D$7<1,A63,A63*10)","v":{"$error":"#REF!"}},{"$error":"#REF!"},{"$error":"#REF!"},{"$error":"#REF!"},{"$error":"#REF!"}]
[0.59000000000000041,{"$f":"IF(Control!D$7<1,A64,A64*10)","v":{"$error":"#REF!"}},{"$error":"#REF!"},{"$error":"#REF!"},{"$error":"#REF!"},{"$error":"#REF!"}]
[0.60000000000000042,{"$f":"IF(Control!D$7<1,A65,A65*10)","v":{"$error":"#REF!"}},{"$error":"#REF!"},{"$error":"#REF!"},{"$error":"#REF!"},{"$error":"#REF!"}]
[0.61000000000000043,{"$f":"IF(Control!D$7<1,A66,A66*10)","v":{"$error":"#REF!"}},{"$f":"C$9*$B66^(C$10)","v":{"$error":"#REF!"}},{"$error":"#REF!"},{"$error":"#REF!"},{"$error":"#REF!"}]
[0.62000000000000044,{"$f":"IF(Control!D$7<1,A67,A67*10)","v":{"$error":"#REF!"}},{"$error":"#REF!"},{"$error":"#REF!"},{"$error":"#REF!"},{"$error":"#REF!"}]
[0.63000000000000045,{"$f":"IF(Control!D$7<1,A68,A68*10)","v":{"$error":"#REF!"}},{"$error":"#REF!"},{"$error":"#REF!"},{"$error":"#REF!"},{"$error":"#REF!"}]
[0.64000000000000046,{"$f":"IF(Control!D$7<1,A69,A69*10)","v":{"$error":"#REF!"}},{"$error":"#REF!"},{"$error":"#REF!"},{"$error":"#REF!"},{"$error":"#REF!"}]
[0.65000000000000047,{"$f":"IF(Control!D$7<1,A70,A70*10)","v":{"$error":"#REF!"}},{"$error":"#REF!"},{"$error":"#REF!"},{"$error":"#REF!"},{"$error":"#REF!"}]
[0.66000000000000048,{"$f":"IF(Control!D$7<1,A71,A71*10)","v":{"$error":"#REF!"}},{"$error":"#REF!"},{"$error":"#REF!"},{"$error":"#REF!"},{"$error":"#REF!"}]
[0.67000000000000048,{"$f":"IF(Control!D$7<1,A72,A72*10)","v":{"$error":"#REF!"}},{"$error":"#REF!"},{"$error":"#REF!"},{"$error":"#REF!"},{"$error":"#REF!"}]
[0.68000000000000049,{"$f":"IF(Control!D$7<1,A73,A73*10)","v":{"$error":"#REF!"}},{"$error":"#REF!"},{"$error":"#REF!"},{"$error":"#REF!"},{"$error":"#REF!"}]
[0.6900000000000005,{"$f":"IF(Control!D$7<1,A74,A74*10)","v":{"$error":"#REF!"}},{"$error":"#REF!"},{"$error":"#REF!"},{"$error":"#REF!"},{"$error":"#REF!"}]
[0.70000000000000051,{"$f":"IF(Control!D$7<1,A75,A75*10)","v":{"$error":"#REF!"}},{"$error":"#REF!"},{"$error":"#REF!"},{"$error":"#REF!"},{"$error":"#REF!"}]
[0.71000000000000052,{"$f":"IF(Control!D$7<1,A76,A76*10)","v":{"$error":"#REF!"}},{"$error":"#REF!"},{"$error":"#REF!"},{"$error":"#REF!"},{"$error":"#REF!"}]
[0.72000000000000053,{"$f":"IF(Control!D$7<1,A77,A77*10)","v":{"$error":"#REF!"}},{"$error":"#REF!"},{"$error":"#REF!"},{"$error":"#REF!"},{"$error":"#REF!"}]
[0.73000000000000054,{"$f":"IF(Control!D$7<1,A78,A78*10)","v":{"$error":"#REF!"}},{"$error":"#REF!"},{"$error":"#REF!"},{"$error":"#REF!"},{"$error":"#REF!"}]
[0.74000000000000055,{"$f":"IF(Control!D$7<1,A79,A79*10)","v":{"$error":"#REF!"}},{"$error":"#REF!"},{"$error":"#REF!"},{"$error":"#REF!"},{"$error":"#REF!"}]
[0.75000000000000056,{"$f":"IF(Control!D$7<1,A80,A80*10)","v":{"$error":"#REF!"}},{"$error":"#REF!"},{"$error":"#REF!"},{"$error":"#REF!"},{"$f":"E80","v":{"$error":"#REF!"}}]
[{"$f":"A80+0.01","v":0.76000000000000056},{"$f":"IF(Control!D$7<1,A81,A81*10)","v":{"$error":"#REF!"}},{"$error":"#REF!"},{"$error":"#REF!"},{"$error":"#REF!"},{"$error":"#REF!"}]
[0.77000000000000057,{"$f":"IF(Control!D$7<1,A82,A82*10)","v":{"$error":"#REF!"}},{"$error":"#REF!"},{"$error":"#REF!"},{"$error":"#REF!"},{"$error":"#REF!"}]
[0.78000000000000058,{"$f":"IF(Control!D$7<1,A83,A83*10)","v":{"$error":"#REF!"}},{"$error":"#REF!"},{"$error":"#REF!"},{"$error":"#REF!"},{"$error":"#REF!"}]
[0.79000000000000059,{"$f":"IF(Control!D$7<1,A84,A84*10)","v":{"$error":"#REF!"}},{"$error":"#REF!"},{"$error":"#REF!"},{"$error":"#REF!"},{"$error":"#REF!"}]
[0.8000000000000006,{"$f":"IF(Control!D$7<1,A85,A85*10)","v":{"$error":"#REF!"}},{"$error":"#REF!"},{"$error":"#REF!"},{"$error":"#REF!"},{"$error":"#REF!"}]
[0.81000000000000061,{"$f":"IF(Control!D$7<1,A86,A86*10)","v":{"$error":"#REF!"}},{"$error":"#REF!"},{"$error":"#REF!"},{"$error":"#REF!"},{"$error":"#REF!"}]
[0.82000000000000062,{"$f":"IF(Control!D$7<1,A87,A87*10)","v":{"$error":"#REF!"}},{"$error":"#REF!"},{"$error":"#REF!"},{"$error":"#REF!"},{"$error":"#REF!"}]
[0.83000000000000063,{"$f":"IF(Control!D$7<1,A88,A88*10)","v":{"$error":"#REF!"}},{"$error":"#REF!"},{"$error":"#REF!"},{"$error":"#REF!"},{"$error":"#REF!"}]
[0.84000000000000064,{"$f":"IF(Control!D$7<1,A89,A89*10)","v":{"$error":"#REF!"}},{"$error":"#REF!"},{"$error":"#REF!"},{"$error":"#REF!"},{"$error":"#REF!"}]
[0.85000000000000064,{"$f":"IF(Control!D$7<1,A90,A90*10)","v":{"$error":"#REF!"}},{"$error":"#REF!"},{"$error":"#REF!"},{"$error":"#REF!"},{"$error":"#REF!"}]
[0.86000000000000065,{"$f":"IF(Control!D$7<1,A91,A91*10)","v":{"$error":"#REF!"}},{"$error":"#REF!"},{"$error":"#REF!"},{"$error":"#REF!"},{"$error":"#REF!"}]
[0.87000000000000066,{"$f":"IF(Control!D$7<1,A92,A92*10)","v":{"$error":"#REF!"}},{"$error":"#REF!"},{"$error":"#REF!"},{"$error":"#REF!"},{"$error":"#REF!"}]
[0.88000000000000067,{"$f":"IF(Control!D$7<1,A93,A93*10)","v":{"$error":"#REF!"}},{"$error":"#REF!"},{"$error":"#REF!"},{"$error":"#REF!"},{"$error":"#REF!"}]
[0.89000000000000068,{"$f":"IF(Control!D$7<1,A94,A94*10)","v":{"$error":"#REF!"}},{"$error":"#REF!"},{"$error":"#REF!"},{"$error":"#REF!"},{"$error":"#REF!"}]
[0.90000000000000069,{"$f":"IF(Control!D$7<1,A95,A95*10)","v":{"$error":"#REF!"}},{"$error":"#REF!"},{"$error":"#REF!"},{"$error":"#REF!"},{"$error":"#REF!"}]
[0.9100000000000007,{"$f":"IF(Control!D$7<1,A96,A96*10)","v":{"$error":"#REF!"}},{"$error":"#REF!"},{"$error":"#REF!"},{"$error":"#REF!"},{"$error":"#REF!"}]
[0.92000000000000071,{"$f":"IF(Control!D$7<1,A97,A97*10)","v":{"$error":"#REF!"}},{"$error":"#REF!"},{"$error":"#REF!"},{"$error":"#REF!"},{"$error":"#REF!"}]
[0.93000000000000071,{"$f":"IF(Control!D$7<1,A98,A98*10)","v":{"$error":"#REF!"}},{"$error":"#REF!"},{"$error":"#REF!"},{"$error":"#REF!"},{"$error":"#REF!"}]
[0.94000000000000072,{"$f":"IF(Control!D$7<1,A99,A99*10)","v":{"$error":"#REF!"}},{"$error":"#REF!"},{"$error":"#REF!"},{"$error":"#REF!"},{"$error":"#REF!"}]
[0.95000000000000073,{"$f":"IF(Control!D$7<1,A100,A100*10)","v":{"$error":"#REF!"}},{"$error":"#REF!"},{"$error":"#REF!"},{"$error":"#REF!"},{"$error":"#REF!"}]
[0.96000000000000074,{"$f":"IF(Control!D$7<1,A101,A101*10)","v":{"$error":"#REF!"}},{"$error":"#REF!"},{"$error":"#REF!"},{"$error":"#REF!"},{"$error":"#REF!"}]
[0.97000000000000075,{"$f":"IF(Control!D$7<1,A102,A102*10)","v":{"$error":"#REF!"}},{"$error":"#REF!"},{"$error":"#REF!"},{"$error":"#REF!"},{"$error":"#REF!"}]
[0.98000000000000076,{"$f":"IF(Control!D$7<1,A103,A103*10)","v":{"$error":"#REF!"}},{"$error":"#REF!"},{"$error":"#REF!"},{"$error":"#REF!"},{"$error":"#REF!"}]
[0.99000000000000077,{"$f":"IF(Control!D$7<1,A104,A104*10)","v":{"$error":"#REF!"}},{"$error":"#REF!"},{"$error":"#REF!"},{"$error":"#REF!"},{"$error":"#REF!"}]
[1.0000000000000007,{"$f":"IF(Control!D$7<1,A105,A105*10)","v":{"$error":"#REF!"}},{"$error":"#REF!"},{"$error":"#REF!"},{"$error":"#REF!"},{"$error":"#REF!"}]

{"sheet":"DROP Cone","index":2,"n_rows":32,"n_cols":31,"rows_kept":32,"cut":false,"hidden":false,"merged":[[1,1,1,10],[27,2,27,3],[27,18,27,19],[28,2,28,3],[28,18,28,19],[31,18,31,19],[29,2,29,3],[29,18,29,19],[30,2,30,3],[30,18,30,19]]}
[]
[null,"POTENTIAL DROP CONE - ACTUAL HEIGHT OF DROPPED OBJECT",null,null,null,null,null,null,null,null,null,null,null,null,null,null,null,"POTENTIAL DROP CONE - POTENTIAL MAXIMUM HEIGHT OF DROPPED OBJECT"]
[null,60,"KG",null,null,null,null,null,null,null,null,null,null,null,null,null,null,50,"KG"]
[null,15,"Deg",{"$f":"TAN(B4*PI()/180)","v":0.2679491924311227},null,null,null,null,null,null,null,null,null,null,null,null,null,15,"Deg",{"$f":"TAN(R4*PI()/180)","v":0.2679491924311227}]
[null,null,"X",5,"Drop (m)",null,null,null,"Meters","to","Feet",51.82,"m",{"$f":"CONVERT(L5,\"m\",\"ft\")","v":170.01312335958005},"ft",null,null,null,"X",51.82,"Drop (m)",null,null,null,"Meters","to","Feet",51.82,"m",{"$f":"CONVERT(AB5,\"m\",\"ft\")","v":170.01312335958005},"ft"]
[null,null,null,{"$f":"(D4*D5)","v":1.3397459621556136},"Drop Cone",null,null,null,"Feet","to","Meters",82.02,"ft",{"$f":"CONVERT(L6,\"ft\",\"m\")","v":24.999696},"m",null,null,null,null,{"$f":"(T4*T5)","v":13.885127151780779},"Drop Cone",null,null,null,"Feet","to","Meters",82.02,"ft",{"$f":"CONVERT(AB6,\"ft\",\"m\")","v":24.999696},"m"]
[null,null,null,null,null,null,null,null,"lbs","to","kg",110.23,"lbs",{"$f":"CONVERT(L7,\"lbm\",\"kg\")","v":49.999486945100003},"kg",null,null,null,null,null,null,null,null,null,"lbs","to","kg",110.23,"lbs",{"$f":"CONVERT(AB7,\"lbm\",\"kg\")","v":49.999486945100003},"kg"]
[null,null,null,null,null,null,null,null,"kg","to","lbs",50,"kg",{"$f":"CONVERT(L8,\"kg\",\"lbm\")","v":110.23113109243879},"lbs",null,null,null,null,null,null,null,null,null,"kg","to","lbs",50,"kg",{"$f":"CONVERT(AB8,\"kg\",\"lbm\")","v":110.23113109243879},"lbs"]
[]
[]
[]
[]
[]
[]
[]
[]
[]
[]
[]
[]
[]
[]
[]
[]
[]
[]
[]
[null,null,"Mass of dropped object =",null,{"$f":"B3","v":60},"Kg",null,null,null,null,null,null,null,null,null,null,null,null,"Mass of dropped object =",null,{"$f":"R3","v":50},"Kg"]
[null,null,"Height of dropped object =",null,{"$f":"D5","v":5},"m",null,null,null,null,null,null,null,null,null,null,null,null,"Height of dropped object =",null,{"$f":"T5","v":51.82},"m"]
[null,null,"Velocity before impact =",null,{"$f":"SQRT(SUM(E29*9.8)*2)","v":9.8994949366116654},"m/s",null,null,null,null,null,null,null,null,null,null,null,null,"Velocity before impact =",null,{"$f":"SQRT(SUM(U29*9.8)*2)","v":31.869609348092112},"m/s"]
[null,null,"Kinectic Energy =",null,{"$f":"SUM(E28*(E30*E30)/2)","v":2940},"J",{"$f":"E31/1000","v":2.94},"Kj",null,null,null,null,null,null,null,null,null,null,"Kinectic Energy =",null,{"$f":"SUM(U28*(U30*U30)/2)","v":25391.800000000003},"J",{"$f":"U31/1000","v":25.391800000000003},"Kj"]
[null,null,"Average Impact force","Average impact force = F",{"$f":"SUM(E31*10)","v":29400},"newtons",null,null,null,null,null,null,null,null,null,null,null,null,"Average Impact force","Average impact force = F",{"$f":"SUM(U31*10)","v":253918.00000000003},"newtons"]

{"sheet":"Sheet1","index":3,"n_rows":0,"n_cols":0,"rows_kept":0,"cut":false,"hidden":true,"merged":[]}